BEGIN:VCALENDAR
VERSION:2.0
PRODID:-//eventon.com NONSGML v1.0//EN
CALSCALE:GREGORIAN
METHOD:PUBLISH
BEGIN:VEVENT
UID:69e52e5665ce7
DTSTAMP:20260419T193446Z
DTSTART:20240628T160000Z
DTEND:20240628T190000Z
LOCATION:Teatro Municipal de Tres Cantos
SUMMARY:Muestra de Lady Drama estudio de actores
DESCRIPTION:Asociación Cultural Con Dramas y a lo Loco 18 horas: Primera m
 uestra de Lady Drama Estudio de Actores: “EL SUEÑO DE UNA NOCHE DE VERAN
 O” Durante los preparativos de la boda de Hipólita\,  dos parejas de ama
 ntes atenienses envueltos en un enredo de amor\,  se pierden en el bosque m
 ágico\, [..]\nhttps://360y5.es/events/muestra-de-lady-drama-estudio-de-act
 ores/
URL:https://360y5.es/events/muestra-de-lady-drama-estudio-de-actores/
END:VEVENT
END:VCALENDAR