BEGIN:VCALENDAR
VERSION:2.0
PRODID:-//eventon.com NONSGML v1.0//EN
CALSCALE:GREGORIAN
METHOD:PUBLISH
BEGIN:VEVENT
UID:69e544519712c
DTSTAMP:20260419T210833Z
DTSTART:20240629T170000Z
DTEND:20240629T183000Z
LOCATION:Auditorio municipal
SUMMARY:Recital: Ópera y Zarzuela
DESCRIPTION:Alma Lyrica: Un encuentro de voces y notas Alma Lyrica es un gr
 upo lírico compuesto actualmente por un pianista y cinco cantantes. Su pas
 ión por la música lírica les ha llevado a explorar un amplio repertorio 
 desde arias de ópera hasta canciones populares y piezas contemporáneas. E
 l grupo nació en[..]\nhttps://360y5.es/events/recital-opera-y-zarzuela/
URL:https://360y5.es/events/recital-opera-y-zarzuela/
END:VEVENT
END:VCALENDAR