BEGIN:VCALENDAR
VERSION:2.0
PRODID:-//eventon.com NONSGML v1.0//EN
CALSCALE:GREGORIAN
METHOD:PUBLISH
BEGIN:VEVENT
UID:69e544d4e29fb
DTSTAMP:20260419T211044Z
DTSTART:20240615T080000Z
DTEND:20240615T110000Z
LOCATION:Aula de Medio Ambiente Las Vaquerizas
SUMMARY:La huerta de las Vaquerizas
DESCRIPTION:Turnos:&#8211; Grupo 1 (público adulto): 10:00 a 10:50 horas. 
 &#8211; Grupo 2 (familiar\,  para todas las edades): 11:00 a 11:50 horas&#8
 211; Grupo 3 (familiar\,  para todas las edades): 12:00 a 12:50 horas Inscr
 ipciones: Cumplimentando este formulario o enviando un correo electrónico 
 a aulamedioambiente@trescantos.es indicando número de participantes\,  eda
 d de los[..]\nhttps://360y5.es/events/la-huerta-de-las-vaquerizas-6/
URL:https://360y5.es/events/la-huerta-de-las-vaquerizas-6/
END:VEVENT
END:VCALENDAR