BEGIN:VCALENDAR
VERSION:2.0
PRODID:-//eventon.com NONSGML v1.0//EN
CALSCALE:GREGORIAN
METHOD:PUBLISH
BEGIN:VEVENT
UID:69e52d63bcb72
DTSTAMP:20260419T193043Z
DTSTART:20240629T080000Z
DTEND:20240629T110000Z
LOCATION:Aula de Medio Ambiente Las Vaquerizas
SUMMARY:Manualidad familiar: eco-cortina de colores
DESCRIPTION:En este taller haremos una manualidad para darnos sombra ahora 
 que llega el verano\,  usando para ello materiales reciclados. Turno 1 (has
 ta 6años): 10 a 11:20 horas. Turno 2 (a partir de 7 años): 11:30 a 12:50 
 horas. Inscripciones: Cumplimentando este formulario o enviando un correo e
 lectrónico a aulamedioambiente@trescantos.es indicando[..]\nhttps://360y5.
 es/events/manualidad-familiar-eco-cortina-de-colores/
URL:https://360y5.es/events/manualidad-familiar-eco-cortina-de-colores/
END:VEVENT
END:VCALENDAR