BEGIN:VCALENDAR
VERSION:2.0
PRODID:-//eventon.com NONSGML v1.0//EN
CALSCALE:GREGORIAN
METHOD:PUBLISH
BEGIN:VEVENT
UID:69e54471db637
DTSTAMP:20260419T210905Z
DTSTART:20240620T160000Z
DTEND:20240620T050000Z
LOCATION:Biblioteca Municipal Lope de Vega
SUMMARY:Cuentaller: Mar y playa
DESCRIPTION:AUTORA: Marta del Saz-Orozco Mar y playa es un cuento sobre el 
 mar\,  el calor y las vacaciones. Tenemos la suerte de llegar hasta la play
 a\,  y allí\,  un montón de sensaciones y sentimientos se entremezclan co
 n sabor a arena y sal. Para finalizar se realizará un taller creativo con[
 ..]\nhttps://360y5.es/events/cuentaller-mar-y-playa-2/
URL:https://360y5.es/events/cuentaller-mar-y-playa-2/
END:VEVENT
END:VCALENDAR