BEGIN:VCALENDAR
VERSION:2.0
PRODID:-//eventon.com NONSGML v1.0//EN
CALSCALE:GREGORIAN
METHOD:PUBLISH
BEGIN:VEVENT
UID:69e52eaaee964
DTSTAMP:20260419T193610Z
DTSTART:20240724T193000Z
DTEND:20240724T210000Z
LOCATION:
SUMMARY:Propuesta cultural: The musical parody
DESCRIPTION:En el mes de Julio\,  aprovechando que el jueves 25 es fiesta\,
   os proponemos ir al teatro\,  a un musical muy divertido\,  que triunfa e
 n Broadway. Si eres fan de la serie de Friends \,  te encantarÃ¡. Y si noâ€
 ¦ Â¡tambiÃ©n!Una celebraciÃ³n de Friends\,  sus icÃ³nicos personajes y los 
 momentos[..]\nhttps://360y5.es/events/propuesta-cultural-the-musical-parody
 /
URL:https://360y5.es/events/propuesta-cultural-the-musical-parody/
END:VEVENT
END:VCALENDAR