BEGIN:VCALENDAR
VERSION:2.0
PRODID:-//eventon.com NONSGML v1.0//EN
CALSCALE:GREGORIAN
METHOD:PUBLISH
BEGIN:VEVENT
UID:69e52f022dcde
DTSTAMP:20260419T193738Z
DTSTART:20240610
DTEND:20240611
LOCATION:Casa de la Juventud Sector Literatos\,  12\,  Tres Cantos
SUMMARY:Exposición: Diversidad: lgtbiq+ y de género
DESCRIPTION:El&nbsp;Centro de Información Juvenil y el programa “Finde J
 oven”&nbsp;de la Casa de la Juventud organizan\,  para conmemorar el Día
  Internacional del Orgullo LGTBIQ+ que se celebra el 28 de junio\, &nbsp;la
  exposición&nbsp;informativa&nbsp;“Diversidad: lgtbiq+ y de género” L
 a exposición además de ser informativa\,  pretende invitar a las personas
  que la visiten a[..]\nhttps://360y5.es/events/exposicion/
URL:https://360y5.es/events/exposicion/
END:VEVENT
END:VCALENDAR