BEGIN:VCALENDAR
VERSION:2.0
PRODID:-//eventon.com NONSGML v1.0//EN
CALSCALE:GREGORIAN
METHOD:PUBLISH
BEGIN:VEVENT
UID:69e52ea5a4f03
DTSTAMP:20260419T193605Z
DTSTART:20240705T200000Z
DTEND:20240705T213000Z
LOCATION:Lago del Parque Central
SUMMARY:Veladas en el lago: Los del Río
DESCRIPTION:El conocido dúo musical andaluz\,  integrado por Antonio Romer
 o y Rafael Ruíz\,  visita por primera vez los escenarios de Tres Cantos. C
 on más de 40 discos grabados\,  reconocidos y premiados mundialmente\,  no
 s harán bailar con todos sus temas y cómo no\,  con la Macarena. Este tem
 a que lanzaron al mercado[..]\nhttps://360y5.es/events/veladas-en-el-lago-l
 os-del-rio/
URL:https://360y5.es/events/veladas-en-el-lago-los-del-rio/
END:VEVENT
END:VCALENDAR