BEGIN:VCALENDAR
VERSION:2.0
PRODID:-//eventon.com NONSGML v1.0//EN
CALSCALE:GREGORIAN
METHOD:PUBLISH
BEGIN:VEVENT
UID:69e52f0e6c307
DTSTAMP:20260419T193750Z
DTSTART:20240706T200000Z
DTEND:20240706T213000Z
LOCATION:Lago del Parque Central
SUMMARY:Veladas en el lago: Diva's Disco
DESCRIPTION:Es un divertido show musical aderezado con baile\,  humor y muc
 ho glamour\,  donde el innegable carisma y la presencia de la popstar por e
 xcelencia\,  Roser\,  comparte protagonismo con las grandes canciones de la
  época dorada de la música disco\,  donde las grandes divas fueron encumb
 radas con éxitos que formaron parte[..]\nhttps://360y5.es/events/veladas-e
 n-el-lago-divas-disco/
URL:https://360y5.es/events/veladas-en-el-lago-divas-disco/
END:VEVENT
END:VCALENDAR