BEGIN:VCALENDAR
VERSION:2.0
PRODID:-//eventon.com NONSGML v1.0//EN
CALSCALE:GREGORIAN
METHOD:PUBLISH
BEGIN:VEVENT
UID:69e514d96fdc1
DTSTAMP:20260419T174601Z
DTSTART:20240712T200000Z
DTEND:20240712T213000Z
LOCATION:Lago del Parque Central
SUMMARY:Veladas en el lago: Coti
DESCRIPTION:Cantante\,  músico\,  compositor y autor de auténticas joyas 
 del rock en español\,  Coti se ha hecho grande en el mundo de la canción 
 de habla hispana por la popularidad y la repercusión de sus canciones. La 
 versión del tema ‘Color esperanza’\,  junto a otros 30 artistas de la 
 talla de[..]\nhttps://360y5.es/events/veladas-en-el-lago-coti/
URL:https://360y5.es/events/veladas-en-el-lago-coti/
END:VEVENT
END:VCALENDAR