BEGIN:VCALENDAR
VERSION:2.0
PRODID:-//eventon.com NONSGML v1.0//EN
CALSCALE:GREGORIAN
METHOD:PUBLISH
BEGIN:VEVENT
UID:69e51400d729a
DTSTAMP:20260419T174224Z
DTSTART:20240719T200000Z
DTEND:20240719T213000Z
LOCATION:Lago del Parque Central
SUMMARY:Veladas en el lago: Recital de ópera y zarzuela
DESCRIPTION:A la luz de las velas Con Montserrat Martí Caballe Montserrat 
 Martí\,  hija de la legendaria soprano Montserrat Caballé\,  presenta su 
 recital de ópera y zarzuela junto al barítono zamorano Luis Santana sobre
  un precioso escenario ambientado con cientos de velas para crear una atmos
 fera única. Acompañada al piano por[..]\nhttps://360y5.es/events/veladas-
 en-el-lago-recital-de-opera-y-zarzuela/
URL:https://360y5.es/events/veladas-en-el-lago-recital-de-opera-y-zarzuela/
END:VEVENT
END:VCALENDAR