BEGIN:VCALENDAR
VERSION:2.0
PRODID:-//eventon.com NONSGML v1.0//EN
CALSCALE:GREGORIAN
METHOD:PUBLISH
BEGIN:VEVENT
UID:69e5154ec7b50
DTSTAMP:20260419T174758Z
DTSTART:20240720T200000Z
DTEND:20240720T213000Z
LOCATION:Lago del Parque Central
SUMMARY:Veladas en el lago: Argentina
DESCRIPTION:Una de las máximas figuras del flamenco\,  presenta en Tres Ca
 ntos su séptimo álbum de estudio titulado ‘Mi idilio con la Habana’. 
 La cantaora\,  de renombre internacional\,  lleva al público a un viaje mu
 sical lleno de pasión y nostalgia\,  donde los rimos del flamenco\,  son c
 ubano\,  salsa y bolero convergen[..]\nhttps://360y5.es/events/veladas-en-e
 l-lago-argentina/
URL:https://360y5.es/events/veladas-en-el-lago-argentina/
END:VEVENT
END:VCALENDAR