BEGIN:VCALENDAR
VERSION:2.0
PRODID:-//eventon.com NONSGML v1.0//EN
CALSCALE:GREGORIAN
METHOD:PUBLISH
BEGIN:VEVENT
UID:69e52f08d9a52
DTSTAMP:20260419T193744Z
DTSTART:20240707T203000Z
DTEND:20240707T215500Z
LOCATION:Plaza de la Familia Parque Central\,  Plaza de la Familia\,  s/n
SUMMARY:Cine de verano: A todo tren 2\,  sí\,  les ha pasado otra vez
DESCRIPTION:Año: 2022 Edad recomendada: todos los públicos Género: Comed
 ia Duración: 84 minutos Reparto: Paz Vega\,  Paz Padilla\,  Santiago Segur
 a\,  Leo Harlem y otros Dirección: Inés de León Hace un año\,  Ricardo 
 (Santiago Segura) y Felipe (Leo Harlem)\,  encargados de llevar a los niño
 s a un campamento\,  se quedaron fuera del[..]\nhttps://360y5.es/events/cin
 e-de-verano-a-todo-tren-2-si-les-ha-pasado-otra-vez/
URL:https://360y5.es/events/cine-de-verano-a-todo-tren-2-si-les-ha-pasado-otra-vez/
END:VEVENT
END:VCALENDAR