BEGIN:VCALENDAR
VERSION:2.0
PRODID:-//eventon.com NONSGML v1.0//EN
CALSCALE:GREGORIAN
METHOD:PUBLISH
BEGIN:VEVENT
UID:69e515ee63317
DTSTAMP:20260419T175038Z
DTSTART:20240714T203000Z
DTEND:20240714T215500Z
LOCATION:Plaza de la Familia Parque Central\,  Plaza de la Familia\,  s/n
SUMMARY:Cine de verano: Mi querido monstruo
DESCRIPTION:Año: 2022 Edad recomendada: todos los públicos Género: Anima
 ción/aventura/comedia Duración: 99 minutos Dirección: Huang Jianming Ku
 nlun\,  Bai Ze\,  el protagonista de&nbsp;Mi querido monstruo&nbsp;(Jianmin
 g Huang) es uno de los curanderos más conocidos y reputados de su adorada 
 isla. Todos en ella acaban acudiendo a sus manos para resolver sus problema
 s. Sin embargo\, [..]\nhttps://360y5.es/events/cine-de-verano-mi-querido-mo
 nstruo/
URL:https://360y5.es/events/cine-de-verano-mi-querido-monstruo/
END:VEVENT
END:VCALENDAR