BEGIN:VCALENDAR
VERSION:2.0
PRODID:-//eventon.com NONSGML v1.0//EN
CALSCALE:GREGORIAN
METHOD:PUBLISH
BEGIN:VEVENT
UID:69e515a3ddccc
DTSTAMP:20260419T174923Z
DTSTART:20240608
DTEND:20240609
LOCATION:
SUMMARY:Exposición: El Cras Madrid
DESCRIPTION:Un hospital para la fauna silvestre de la Comunidad de Madrid M
 artes a sábado de 8.30 a 14 horas.\nhttps://360y5.es/events/exposicion-el-
 cras-madrid/
URL:https://360y5.es/events/exposicion-el-cras-madrid/
END:VEVENT
END:VCALENDAR