BEGIN:VCALENDAR
VERSION:2.0
PRODID:-//eventon.com NONSGML v1.0//EN
CALSCALE:GREGORIAN
METHOD:PUBLISH
BEGIN:VEVENT
UID:69e505707bbc2
DTSTAMP:20260419T164016Z
DTSTART:20240928T173000Z
DTEND:20240928T200000Z
LOCATION:Centro Cultural Adolfo Suárez
SUMMARY:Teatro Real de Madrid "Adriana Lecouvreur"
DESCRIPTION:Semana de la ÓperaEmisión en directo del estrenoEl Teatro Mun
 icipal de Tres Cantos ofrece laretransmisión en directo del estreno de la 
 ópera“Adriana Lecouvreur” de Francesco Cilea\,  desde elTeatro Real de
  Madrid Entrada gratuita hasta completar aforo. Retirar entradas desde una 
 hora antes en taquilla del teatro\nhttps://360y5.es/events/teatro-real-de-m
 adrid-adriana-lecouvreur/
URL:https://360y5.es/events/teatro-real-de-madrid-adriana-lecouvreur/
END:VEVENT
END:VCALENDAR