BEGIN:VCALENDAR
VERSION:2.0
PRODID:-//eventon.com NONSGML v1.0//EN
CALSCALE:GREGORIAN
METHOD:PUBLISH
BEGIN:VEVENT
UID:69e514ba4f8dd
DTSTAMP:20260419T174530Z
DTSTART:20240927
DTEND:20240928
LOCATION:
SUMMARY:Ola Septiembre
DESCRIPTION:viernes 27 de septiembre 22:00 a 00:00 Concierto de Darwin. Pal
 za del Ayuntamiento 22:00 a 00:00 horas LOVEGENERATION. Escenario Principal
  del Recinto Ferial 00:00 a 01:30 horas: Actuación de DJ´s NANO. Escenari
 o Principal del Recinto Ferial 01:30 horas: Actuación de DJ´s LAMEIRO. Es
 cenario Principal del Recinto Ferial 02:30 horas: Actuación[..]\nhttps://3
 60y5.es/events/ola-septiembre-2/
URL:https://360y5.es/events/ola-septiembre-2/
END:VEVENT
END:VCALENDAR