BEGIN:VCALENDAR
VERSION:2.0
PRODID:-//eventon.com NONSGML v1.0//EN
CALSCALE:GREGORIAN
METHOD:PUBLISH
BEGIN:VEVENT
UID:69e5155516ecc
DTSTAMP:20260419T174805Z
DTSTART:20240927
DTEND:20240928
LOCATION:Plaza del Ayuntamiento
SUMMARY:XXIII Jornadas Gastronómicas
DESCRIPTION:Degustación y venta de productos regionales Actividades infant
 iles gratuitas Actuaciones de casas regionales Enología\nhttps://360y5.es/
 events/xxiii-jornadas-gastronomicas/
URL:https://360y5.es/events/xxiii-jornadas-gastronomicas/
END:VEVENT
END:VCALENDAR