BEGIN:VCALENDAR
VERSION:2.0
PRODID:-//eventon.com NONSGML v1.0//EN
CALSCALE:GREGORIAN
METHOD:PUBLISH
BEGIN:VEVENT
UID:69e5045158576
DTSTAMP:20260419T163529Z
DTSTART:20241013T100000Z
DTEND:20241013T120000Z
LOCATION:Auditorio municipal
SUMMARY:CUCÚ-TRASTRÁS… Con el Quijote aventuras vivirás
DESCRIPTION:ESPECTÁCULO FAMILIAR Compañía: Arteluna Teatro Los Cucutrast
 os van a conocer al mismísimo Don Quijote y a su fiel escudero Sancho Panz
 a. Conociéndolos seguro que quieren “trastear” sus aventuras… ¿Te a
 puntas tú también? &nbsp;&nbsp;&nbsp;&nbsp;&nbsp;&nbsp;&nbsp;&nbsp;&nbsp;
 &nbsp;&nbsp; Entrada: 3 € &nbsp;&nbsp;&nbsp;&nbsp;&nbsp;&nbsp;&nbsp;&nbsp
 ;&nbsp;&nbsp;&nbsp; Venta de entradas: en horario habitual de taquilla y en
  www.giglon.com\nhttps://360y5.es/events/cucu-trastras-con-el-quijote-avent
 uras-viviras/
URL:https://360y5.es/events/cucu-trastras-con-el-quijote-aventuras-viviras/
END:VEVENT
END:VCALENDAR