BEGIN:VCALENDAR
VERSION:2.0
PRODID:-//eventon.com NONSGML v1.0//EN
CALSCALE:GREGORIAN
METHOD:PUBLISH
BEGIN:VEVENT
UID:69e503f9bb829
DTSTAMP:20260419T163401Z
DTSTART:20241019T170000Z
DTEND:20241019T190000Z
LOCATION:Teatro Municipal de Tres Cantos
SUMMARY:I Certamen nacional de teatro musical amateur de Tres Cantos: Todos hablan de Evan
DESCRIPTION:Directores del Certamen: Verónica Hellín&nbsp;y&nbsp;Álvaro 
 Fernández Entre las 23 propuestas recibidas\,  el comité de selección e
 ligió las cuatro finalistas: Compañía: RED Teatro Musical (Sevilla)Gén
 ero: Drama\,  Comedia\,  MusicalDuración: 150 minutos (con entreacto)Públ
 ico: recomendada para mayores de 13 añosLibreto original: Steven LevensonM
 úsica y letras originales: Ben Pasek y Justin PaulAdaptación: Antonio Rec
 uerda\,  Jaime Rebollo\, [..]\nhttps://360y5.es/events/i-certamen-nacional-
 de-teatro-musical-amateur-de-tres-cantos-ultima-estacion-gran-via/
URL:https://360y5.es/events/i-certamen-nacional-de-teatro-musical-amateur-de-tres-cantos-ultima-estacion-gran-via/
END:VEVENT
END:VCALENDAR