BEGIN:VCALENDAR
VERSION:2.0
PRODID:-//eventon.com NONSGML v1.0//EN
CALSCALE:GREGORIAN
METHOD:PUBLISH
BEGIN:VEVENT
UID:69e504f95d431
DTSTAMP:20260419T163817Z
DTSTART:20241020T170000Z
DTEND:20241020T190000Z
LOCATION:Teatro Municipal de Tres Cantos
SUMMARY:I Certamen nacional de teatro musical amateur de Tres Cantos: La fuerza del destino
DESCRIPTION:Directores del Certamen: Verónica Hellín&nbsp;y&nbsp;Álvaro 
 Fernández Entre las 23 propuestas recibidas\,  el comité de selección e
 ligió las cuatro finalistas: Compañía: DREAMLAND (Móstoles)Género: Dr
 ama\,  Comedia\,  MusicalDuración: 170 minutos (con entreacto)Público: re
 comendada para mayores de 13 añosLibreto original: David SerranoMúsica y 
 letras originales: Nacho CanoAdaptación: Daniel Corcobado “La Fuerza del
  Destino” es una adaptación[..]\nhttps://360y5.es/events/i-certamen-naci
 onal-de-teatro-musical-amateur-de-tres-cantos-u/
URL:https://360y5.es/events/i-certamen-nacional-de-teatro-musical-amateur-de-tres-cantos-u/
END:VEVENT
END:VCALENDAR