BEGIN:VCALENDAR
VERSION:2.0
PRODID:-//eventon.com NONSGML v1.0//EN
CALSCALE:GREGORIAN
METHOD:PUBLISH
BEGIN:VEVENT
UID:69e4f27ef203a
DTSTAMP:20260419T151926Z
DTSTART:20241025T063000Z
DTEND:20241025T073000Z
LOCATION:Biblioteca Municipal Lope de Vega
SUMMARY:África erótica
DESCRIPTION:UNA NOCHE DE CUENTO NARRADOR: Boni Ofogo Un joven cuyo oficio e
 s el arte de amar demuestra a sus hermanos que uno se puede ganar la vida d
 ignamente haciendo el amor\,  pero haciéndolo bien. Para ello\,  apunta mu
 y alto: ni más ni menos que a las distintas reinas de la[..]\nhttps://360y
 5.es/events/africa-erotica/
URL:https://360y5.es/events/africa-erotica/
END:VEVENT
END:VCALENDAR