BEGIN:VCALENDAR
VERSION:2.0
PRODID:-//eventon.com NONSGML v1.0//EN
CALSCALE:GREGORIAN
METHOD:PUBLISH
BEGIN:VEVENT
UID:69e505abb252d
DTSTAMP:20260419T164115Z
DTSTART:20241016T170000Z
DTEND:20241016T183000Z
LOCATION:Biblioteca Municipal Lope de Vega
SUMMARY:Paco Roca y Rodrigo Terrasa
DESCRIPTION:ENCUENTRO CON AUTOR. Paco Roca y Rodrigo Terrasa visitan la bib
 lioteca municipal Lope de Vega para hablarnos de su último cómic El abism
 o del olvido. Una obra sobre la memoria\,  el olvido y la dignidad de los v
 encidos. Paco Roca es uno de los dibujantes de cómic más reconocidos de[.
 .]\nhttps://360y5.es/events/paco-roca-y-rodrigo-terrasa/
URL:https://360y5.es/events/paco-roca-y-rodrigo-terrasa/
END:VEVENT
END:VCALENDAR