BEGIN:VCALENDAR
VERSION:2.0
PRODID:-//eventon.com NONSGML v1.0//EN
CALSCALE:GREGORIAN
METHOD:PUBLISH
BEGIN:VEVENT
UID:69e5049f42268
DTSTAMP:20260419T163647Z
DTSTART:20241005T080000Z
DTEND:20241005T110000Z
LOCATION:Aula de Medio Ambiente Las Vaquerizas
SUMMARY:Manualidad infantil: Cuadro otoñal
DESCRIPTION:Estamos en pleno otoño\,  estación que nos regala unas imáge
 nes y colores preciosos y un montón de hojas de los árboles caducos. ¡Va
 mos aprovecharlas haciendo una llamativa manualidad! Turno 1 (hasta 6años)
 : 10 a 11:20 horas. Turno 2 (a partir de 7 años): 11:30 a 12:50 horas. Ins
 cripciones: Cumplimentando este[..]\nhttps://360y5.es/events/manualidad-inf
 antil-cuadro-otonal/
URL:https://360y5.es/events/manualidad-infantil-cuadro-otonal/
END:VEVENT
END:VCALENDAR