BEGIN:VCALENDAR
VERSION:2.0
PRODID:-//eventon.com NONSGML v1.0//EN
CALSCALE:GREGORIAN
METHOD:PUBLISH
BEGIN:VEVENT
UID:69e5056a91b06
DTSTAMP:20260419T164010Z
DTSTART:20241011T150000Z
DTEND:20241011T180000Z
LOCATION:Aula de Medio Ambiente Las Vaquerizas
SUMMARY:Taller familiar: El maravilloso mundo de las aves migratorias
DESCRIPTION:Descubre cómo aves de todo tipo y tamaño realizan sus migraci
 ones en busca de un lugar agradable para pasar el invierno. Turnos: Turno 1
  (hasta 6 años): de 17:00 a 18:15 horas. Turno 2 (a partir de 7 años): de
  18:30 a 19:45 horas. Inscripciones: Cumplimentando este formulario o envia
 ndo[..]\nhttps://360y5.es/events/taller-familiar-el-maravilloso-mundo-de-la
 s-aves-migratorias/
URL:https://360y5.es/events/taller-familiar-el-maravilloso-mundo-de-las-aves-migratorias/
END:VEVENT
END:VCALENDAR