BEGIN:VCALENDAR
VERSION:2.0
PRODID:-//eventon.com NONSGML v1.0//EN
CALSCALE:GREGORIAN
METHOD:PUBLISH
BEGIN:VEVENT
UID:69e4f24985e08
DTSTAMP:20260419T151833Z
DTSTART:20241031T160000Z
DTEND:20241031T200000Z
LOCATION:Polideportivo de La Luz
SUMMARY:Pequehalloween infantil
DESCRIPTION:Talleres creativos halloween. Hinchables y juegos. Animación y
  baile.\nhttps://360y5.es/events/pequehalloween-infantil/
URL:https://360y5.es/events/pequehalloween-infantil/
END:VEVENT
END:VCALENDAR