BEGIN:VCALENDAR
VERSION:2.0
PRODID:-//eventon.com NONSGML v1.0//EN
CALSCALE:GREGORIAN
METHOD:PUBLISH
BEGIN:VEVENT
UID:69e4f3324ed0d
DTSTAMP:20260419T152226Z
DTSTART:20241031T173000Z
DTEND:20241031T213000Z
LOCATION:Casa de la Juventud Sector Literatos\,  12\,  Tres Cantos
SUMMARY:Pasaje del terror para adolescentes
DESCRIPTION:Este jueves 31 de octubre el equipo del FINDE JOVEN organizará
  su habitual Pasaje del Terror. Este año tienen un terrorífico “Campame
 nto Diabólico”\,  que terminará con unas palomitas y un refresco para p
 asar el susto. ¡MUY IMPORTANTE EL PLAZO DE RESERVA DE ENTRADA HA FINALIZAD
 O! Si te has quedado sin[..]\nhttps://360y5.es/events/pasaje-del-terror-par
 a-adolescentes/
URL:https://360y5.es/events/pasaje-del-terror-para-adolescentes/
END:VEVENT
END:VCALENDAR