BEGIN:VCALENDAR
VERSION:2.0
PRODID:-//eventon.com NONSGML v1.0//EN
CALSCALE:GREGORIAN
METHOD:PUBLISH
BEGIN:VEVENT
UID:69e4f34684e3d
DTSTAMP:20260419T152246Z
DTSTART:20241116T100000Z
DTEND:20241116T113000Z
LOCATION:Biblioteca Municipal Lope de Vega
SUMMARY:BBCuentos: Cucutrás
DESCRIPTION:Dos sesiones: A las 11 y a las 12 horas. Cuentacuentos: Primige
 nius Un delicado espectáculo de folklore infantil para niños y niñas has
 ta 36 meses. Voces antiguas y una guitarra que suena notas de la luna luner
 a\,  los sonidos profundos del mar y el canto de las ballenas. Y así\, [..
 ]\nhttps://360y5.es/events/bbcuentos-cucutras/
URL:https://360y5.es/events/bbcuentos-cucutras/
END:VEVENT
END:VCALENDAR