BEGIN:VCALENDAR
VERSION:2.0
PRODID:-//eventon.com NONSGML v1.0//EN
CALSCALE:GREGORIAN
METHOD:PUBLISH
BEGIN:VEVENT
UID:69e4f2e7cdac6
DTSTAMP:20260419T152111Z
DTSTART:20241109T100000Z
DTEND:20241109T104500Z
LOCATION:Biblioteca Municipal Lope de Vega
SUMMARY:Story time: The big bad wolf
DESCRIPTION:CUENTACUENTOS: Face2Face Todas las historias son diferentes seg
 ún desde donde se las mire.¿Es tan malo el Lobo feroz como dicen todos lo
 s cuentos?Ha llegado la hora de escuchar su versión de los hechos.Acompañ
 a a este simpático lobo\,  tres traviesos cerditos y una adorable Caperuci
 ta Roja a vivir increíbles aventuras. Jugar\, [..]\nhttps://360y5.es/event
 s/story-time-the-big-bad-wolf/
URL:https://360y5.es/events/story-time-the-big-bad-wolf/
END:VEVENT
END:VCALENDAR