BEGIN:VCALENDAR
VERSION:2.0
PRODID:-//eventon.com NONSGML v1.0//EN
CALSCALE:GREGORIAN
METHOD:PUBLISH
BEGIN:VEVENT
UID:69e4f2e7d0243
DTSTAMP:20260419T152111Z
DTSTART:20241110T110000Z
DTEND:20241110T120000Z
LOCATION:Auditorio municipal
SUMMARY:Espectáculo familiar: Cucú-trastrás... danzarás y trastearás
DESCRIPTION:Compañía: Arteluna Teatro Lula sueña bailar como las grandes
  bailarinas\,  pero tropieza cada vez que intenta hacer una pirueta. Su ami
 ga\,  Pelusa\,  quiere animarla y para ello ha decidido convertirla en la p
 rotagonista de los cuentos de grandes ballets clásicos como “El Lago de 
 los cisnes” y “La bella durmiente”…[..]\nhttps://360y5.es/events/es
 pectaculo-familiar-cucu-trastras-danzaras-y-trastearas-3/
URL:https://360y5.es/events/espectaculo-familiar-cucu-trastras-danzaras-y-trastearas-3/
END:VEVENT
END:VCALENDAR