BEGIN:VCALENDAR
VERSION:2.0
PRODID:-//eventon.com NONSGML v1.0//EN
CALSCALE:GREGORIAN
METHOD:PUBLISH
BEGIN:VEVENT
UID:69e4f27ef118a
DTSTAMP:20260419T151926Z
DTSTART:20241110T180000Z
DTEND:20241110T193000Z
LOCATION:Teatro Municipal de Tres Cantos
SUMMARY:Danza flamenca y española: Foliajazz
DESCRIPTION:Red de Teatros de la Comunidad de Madrid. Compañía: Iván Gó
 mez. Foliajazz representa una evolución necesaria en la danza española y 
 el flamenco. Esta producción aúna todos los estilos de la Danza Española
  con un talento innovador\,  a través de la música de ROBERTO PACHECO\,  
 ARA MALIKIAN\,  JOSÉ LUIS MONTÓN[..]\nhttps://360y5.es/events/danza-flame
 nca-y-espanola-foliajazz/
URL:https://360y5.es/events/danza-flamenca-y-espanola-foliajazz/
END:VEVENT
END:VCALENDAR