BEGIN:VCALENDAR
VERSION:2.0
PRODID:-//eventon.com NONSGML v1.0//EN
CALSCALE:GREGORIAN
METHOD:PUBLISH
BEGIN:VEVENT
UID:69e4f2dd2a96a
DTSTAMP:20260419T152101Z
DTSTART:20241115T170000Z
DTEND:20241115T181000Z
LOCATION:Teatro Municipal de Tres Cantos
SUMMARY:Espectáculo familiar: La ratita presumida
DESCRIPTION:Compañía: La Murga Teatro Creación y dirección: Alfredo Áv
 ila Duración: 70 minutos Edad ideal: de 4 a 10 años El cuento de siempre 
 convertido en un gran musical familiar a ritmo de Rock and Roll. Esta visi
 n tan divertida de la historia\,  inspirada en el cuento original de Charl
 es Perrault\, [..]\nhttps://360y5.es/events/espectaculo-familiar-la-ratita-
 presumida/
URL:https://360y5.es/events/espectaculo-familiar-la-ratita-presumida/
END:VEVENT
END:VCALENDAR