BEGIN:VCALENDAR
VERSION:2.0
PRODID:-//eventon.com NONSGML v1.0//EN
CALSCALE:GREGORIAN
METHOD:PUBLISH
BEGIN:VEVENT
UID:69e4dec21c599
DTSTAMP:20260419T135514Z
DTSTART:20241201T170000Z
DTEND:20241201T183500Z
LOCATION:Multicines Odeón Av. de los Labradores\,  9
SUMMARY:Cine neurodiverso: Vaiana 2
DESCRIPTION:Cine adaptado a las necesidades del autismo. Sesión abierta pa
 ra el público en general\,  no exclusiva para TEA.\nhttps://360y5.es/event
 s/cine-neurodiverso-vaiana-2/
URL:https://360y5.es/events/cine-neurodiverso-vaiana-2/
END:VEVENT
END:VCALENDAR