BEGIN:VCALENDAR
VERSION:2.0
PRODID:-//eventon.com NONSGML v1.0//EN
CALSCALE:GREGORIAN
METHOD:PUBLISH
BEGIN:VEVENT
UID:69e4e2388f2fb
DTSTAMP:20260419T141000Z
DTSTART:20241130T100000Z
DTEND:20241130T113000Z
LOCATION:Centro Cultural Adolfo Suárez
SUMMARY:Musicoterapia en familia
DESCRIPTION:Sesión de musicoterapia gratuita para niños y niñas con y si
 n discapacidad y sus familias. Con Catalina Córdoba y Beatriz Amorós. Ins
 cripción: personascondiscapacidad@trescantos.es No es necesario saber toca
 r\,  solo ganas de disfrutar de la música y de un rato en familia. Asociac
 ión CTNNB1\nhttps://360y5.es/events/musicoterapia-en-familia/
URL:https://360y5.es/events/musicoterapia-en-familia/
END:VEVENT
END:VCALENDAR