BEGIN:VCALENDAR
VERSION:2.0
PRODID:-//eventon.com NONSGML v1.0//EN
CALSCALE:GREGORIAN
METHOD:PUBLISH
BEGIN:VEVENT
UID:69e4f3da4573c
DTSTAMP:20260419T152514Z
DTSTART:20241123T180000Z
DTEND:20241123T193000Z
LOCATION:Teatro Municipal de Tres Cantos
SUMMARY:Concierto solidario: A contraluz
DESCRIPTION:Actividad organizada con motivo de la Semana por la Solidaridad
  y Promoción del Voluntariado. En beneficio de AMI3 Adquisición de entrad
 as: A través de giglon en el siguiente enlace. Venta presencial: En AMI-3 
 (C/ Comercio\, 2) de 10:00 a 19:00 horas de lunes a jueves. Viernes hasta l
 as 17:00). Tfno.: 681065776[..]\nhttps://360y5.es/events/concierto-solidari
 o-a-contraluz/
URL:https://360y5.es/events/concierto-solidario-a-contraluz/
END:VEVENT
END:VCALENDAR