BEGIN:VCALENDAR
VERSION:2.0
PRODID:-//eventon.com NONSGML v1.0//EN
CALSCALE:GREGORIAN
METHOD:PUBLISH
BEGIN:VEVENT
UID:69e4e2a9b255d
DTSTAMP:20260419T141153Z
DTSTART:20241124T100000Z
DTEND:20241124T111500Z
LOCATION:Auditorio municipal
SUMMARY:Espectáculo familiar: El desafío de ardilla
DESCRIPTION:Actividad organizada con motivo de la&nbsp;Semana por la Solida
 ridad y Promoción del Voluntariado. Un espectáculo dirigido a niños y ni
 ñas de 5 a 13 años acompañados de sus familias en el que a través de ju
 egos y canciones desplegaremos nuestra creatividad y conoceremos algunas cl
 aves para superar las dificultades cuando[..]\nhttps://360y5.es/events/espe
 ctaculo-familiar-el-desafio-de-ardilla/
URL:https://360y5.es/events/espectaculo-familiar-el-desafio-de-ardilla/
END:VEVENT
END:VCALENDAR