BEGIN:VCALENDAR
VERSION:2.0
PRODID:-//eventon.com NONSGML v1.0//EN
CALSCALE:GREGORIAN
METHOD:PUBLISH
BEGIN:VEVENT
UID:69e4e2b87a6a3
DTSTAMP:20260419T141208Z
DTSTART:20241212T170000Z
DTEND:20241212T174500Z
LOCATION:Biblioteca Municipal Lope de Vega
SUMMARY:La hora de los cuentos: De 0 a 100 aĆ±os
DESCRIPTION:NARRADORA: Lourdes del Aire Entre libros nos llegabauna voz que
  nos transportaviendo que la edad no importaa todos encandilabay se nos caĆ
 ­a la baba.ĀæCuĆ”nto tiempo hay que esperar?ĀæCuĆ”ntos mares navegar?Y es q
 ue el mayor y el pequeĆ±opodrĆ”n escuchar el sueĆ±oque Lourdes quiera conta
 r. DuraciĆ³n: 45 minutos Edad recomendada: a partir[..]\nhttps://360y5.es/e
 vents/la-hora-de-los-cuentos-de-0-a-100-anos/
URL:https://360y5.es/events/la-hora-de-los-cuentos-de-0-a-100-anos/
END:VEVENT
END:VCALENDAR