BEGIN:VCALENDAR
VERSION:2.0
PRODID:-//eventon.com NONSGML v1.0//EN
CALSCALE:GREGORIAN
METHOD:PUBLISH
BEGIN:VEVENT
UID:69e4e1806ff56
DTSTAMP:20260419T140656Z
DTSTART:20241208T173000Z
DTEND:20241208T183000Z
LOCATION:Teatro Municipal de Tres Cantos
SUMMARY:Gala de circo
DESCRIPTION:La Escuela de Circo Diverso invita a disfrutar de una mágica G
 ala de Circo. Este espectáculo promete asombrar a toda la familia con núm
 eros llenos de destreza\,  creatividad y emoción\,  presentados por artist
 as locales y profesionales del circo.&nbsp;&nbsp; Artistas de todos los lug
 ares de España\,  números de malabares\,  aéreos y[..]\nhttps://360y5.es
 /events/gala-de-circo/
URL:https://360y5.es/events/gala-de-circo/
END:VEVENT
END:VCALENDAR