BEGIN:VCALENDAR
VERSION:2.0
PRODID:-//eventon.com NONSGML v1.0//EN
CALSCALE:GREGORIAN
METHOD:PUBLISH
BEGIN:VEVENT
UID:69e4dfb2ef73b
DTSTAMP:20260419T135914Z
DTSTART:20241215T110000Z
DTEND:20241215T120000Z
LOCATION:Auditorio municipal
SUMMARY:Una mañana de música Barbershop
DESCRIPTION:Un estilo diferente\,  fresco y poco conocido. El cuarteto&nbsp
 ;Why Not! Quartet&nbsp;y el cuarteto&nbsp;invitado Mad Gals nos harán disf
 rutar y acercarnos un poco más a su música. El cuarteto tricantino Why No
 t! Quartet se estrenó en 2019. Ha participado en varias ocasiones en nuest
 ra localidad y en otras muchas\,  haciendo disfrutar[..]\nhttps://360y5.es/
 events/una-manana-de-musica-barbershop/
URL:https://360y5.es/events/una-manana-de-musica-barbershop/
END:VEVENT
END:VCALENDAR