BEGIN:VCALENDAR
VERSION:2.0
PRODID:-//eventon.com NONSGML v1.0//EN
CALSCALE:GREGORIAN
METHOD:PUBLISH
BEGIN:VEVENT
UID:69e4e38370780
DTSTAMP:20260419T141531Z
DTSTART:20241215T170000Z
DTEND:20241215T180000Z
LOCATION:Teatro Municipal de Tres Cantos
SUMMARY:Espectáculo familiar: El gigante y la Navidad
DESCRIPTION:Compañía: Títeres Sol y Tierra Inspirados en “El Gigante E
 goísta”\,  de Óscar Wilde\,  Sol y Tierra ha creado esta propuesta navi
 deña de teatro de títeres para público familiar. Dos amigos se reúnen t
 odas las navidades bajo un mágico árbol para contar el cuento de El Gigan
 te y la Navidad\,  e[..]\nhttps://360y5.es/events/espectaculo-familiar-el-g
 igante-y-la-navidad/
URL:https://360y5.es/events/espectaculo-familiar-el-gigante-y-la-navidad/
END:VEVENT
END:VCALENDAR