BEGIN:VCALENDAR
VERSION:2.0
PRODID:-//eventon.com NONSGML v1.0//EN
CALSCALE:GREGORIAN
METHOD:PUBLISH
BEGIN:VEVENT
UID:69e4e5a973b46
DTSTAMP:20260419T142441Z
DTSTART:20241228T180000Z
DTEND:20241228T193000Z
LOCATION:Teatro Municipal de Tres Cantos
SUMMARY:Espectáculo músico-teatral: Libre
DESCRIPTION:Red de Teatros de la Comunidad de Madrid Compañía: Melomans A
 utoría: MELOMANS\,  Santiago Sánchez y Víctor LucasIntérpretes: Edu Esc
 artí\,  Gonzalo Manglano\,  Javi Reig\,  Pau FerrerDirección: Santiago S
 nchez y Víctor Lucas “LIBRE” es un espectáculo musical de Melomans\,
   escrito y dirigido por Santiago Sánchez y Víctor Lucas (IMPREBIS)\,  en
  el que[..]\nhttps://360y5.es/events/espectaculo-musico-teatral-libre/
URL:https://360y5.es/events/espectaculo-musico-teatral-libre/
END:VEVENT
END:VCALENDAR