BEGIN:VCALENDAR
VERSION:2.0
PRODID:-//eventon.com NONSGML v1.0//EN
CALSCALE:GREGORIAN
METHOD:PUBLISH
BEGIN:VEVENT
UID:69e4d26c262db
DTSTAMP:20260419T130236Z
DTSTART:20241229T180000Z
DTEND:20241229T193000Z
LOCATION:Teatro Municipal de Tres Cantos
SUMMARY:Magia: Mistery
DESCRIPTION:Intérpretes: Mago Murphy y Miguel Gavilán Red de Teatros de l
 a Comunidad de Madrid Murphy y Miguel Gavilán se unen en escena para ofrec
 er un espectáculo de magia único para público familiar. Una buena combin
 ación de ritmo e ilusión que no dejará indiferente al público presente.
  Apariciones\,  desapariciones\,  levitaciones\,  transformaciones[..]\nhtt
 ps://360y5.es/events/magia-mistery/
URL:https://360y5.es/events/magia-mistery/
END:VEVENT
END:VCALENDAR