BEGIN:VCALENDAR
VERSION:2.0
PRODID:-//eventon.com NONSGML v1.0//EN
CALSCALE:GREGORIAN
METHOD:PUBLISH
BEGIN:VEVENT
UID:69e4e310ccc0e
DTSTAMP:20260419T141336Z
DTSTART:20241220T043000Z
DTEND:20241223T073000Z
LOCATION:Centro Cultural Adolfo Suárez
SUMMARY:Papá Noel
DESCRIPTION:Este año\,  Papá Noel hace una parada especial en Tres Cantos
  para compartir sonrisas\,  escuchar tus deseos y crear recuerdos inolvidab
 les. ✨ Cuándo y dónde📅 Fecha: De 20 a 23 de diciembre 🕒 Horario: 
 17:30 a 20:30 📍 Lugar: Centro cultural Adolfo Suárez Tendrás la oportu
 nidad de sacarte una foto[..]\nhttps://360y5.es/events/papa-noel/
URL:https://360y5.es/events/papa-noel/
END:VEVENT
END:VCALENDAR