BEGIN:VCALENDAR
VERSION:2.0
PRODID:-//eventon.com NONSGML v1.0//EN
CALSCALE:GREGORIAN
METHOD:PUBLISH
BEGIN:VEVENT
UID:69e4dfb87db6a
DTSTAMP:20260419T135920Z
DTSTART:20241213T053000Z
DTEND:20241213T063000Z
LOCATION:Plaza del Ayuntamiento
SUMMARY:Inauguración de la iluminación navideña y de la Ciudad de la ilusión
DESCRIPTION:En la Plaza Central (detrás del Ayuntamiento) Acto de inaugura
 ción del encendido de la iluminación navideña e inauguración de la «Ci
 udad de la Ilusión». Disfrutaremos de los espectáculos Voalá Station Ch
 ristmas y Las Aventuras de Coco y Pepe. Voalá Station Christmas Cuatro eje
 cutivos pierden el último tren de la noche[..]\nhttps://360y5.es/events/es
 pectaculo-voala-station-christmas/
URL:https://360y5.es/events/espectaculo-voala-station-christmas/
END:VEVENT
END:VCALENDAR