BEGIN:VCALENDAR
VERSION:2.0
PRODID:-//eventon.com NONSGML v1.0//EN
CALSCALE:GREGORIAN
METHOD:PUBLISH
BEGIN:VEVENT
UID:69e4e73093be4
DTSTAMP:20260419T143112Z
DTSTART:20241226T163000Z
DTEND:20241230T193000Z
LOCATION:
SUMMARY:Paje Real
DESCRIPTION:La magia de la Navidad sigue llenando los corazones\,  y este a
 ño\,  ¡el Paje Real hace una parada especial en Tres Cantos! Es el moment
 o perfecto para que los pequeños entreguen sus cartas llenas de ilusión y
  compartan sus deseos con quien más cerca está de los Reyes Magos. ✨[..
 ]\nhttps://360y5.es/events/paje-real-3/
URL:https://360y5.es/events/paje-real-3/
END:VEVENT
END:VCALENDAR