BEGIN:VCALENDAR
VERSION:2.0
PRODID:-//eventon.com NONSGML v1.0//EN
CALSCALE:GREGORIAN
METHOD:PUBLISH
BEGIN:VEVENT
UID:69e4e5416e3cd
DTSTAMP:20260419T142257Z
DTSTART:20241226T110000Z
DTEND:20241226T120000Z
LOCATION:Centro Cultural Adolfo Suárez
SUMMARY:Títeres: Un paseo por el mar
DESCRIPTION:¡Descubre la magia con este espectáculo de títeres! 🎄🧸
  Una aventura marina de títeres en la que conoceremos a serpientes hipnoti
 zadoras\,  tiburones remolones\,  basuras habladoras y muchas sorpresas má
 s. ✨🎄 Un espectáculo para toda la familia Entrada libre.\nhttps://360
 y5.es/events/titeres-un-paseo-por-el-mar/
URL:https://360y5.es/events/titeres-un-paseo-por-el-mar/
END:VEVENT
END:VCALENDAR