BEGIN:VCALENDAR
VERSION:2.0
PRODID:-//eventon.com NONSGML v1.0//EN
CALSCALE:GREGORIAN
METHOD:PUBLISH
BEGIN:VEVENT
UID:69e4e72ae79ab
DTSTAMP:20260419T143106Z
DTSTART:20241226T173000Z
DTEND:20241226T183000Z
LOCATION:Auditorio municipal
SUMMARY:Teatro infantil: Where is Pulgarcito?
DESCRIPTION:Prepárate para vivir una experiencia llena de emoción\,  humo
 r\,  aventura y aprendizaje. Ayudaremos a encontrar al pequeño Pulgarcito 
 pasando por un sin fin de increíbles andanzas donde no solo disfrutaremos 
 de la magia del teatro y la música ¡también pondremos en práctica nuest
 ros conocimientos de inglés gracias a su personaje![..]\nhttps://360y5.es/
 events/teatro-infantil-where-is-pulgarcito/
URL:https://360y5.es/events/teatro-infantil-where-is-pulgarcito/
END:VEVENT
END:VCALENDAR