BEGIN:VCALENDAR
VERSION:2.0
PRODID:-//eventon.com NONSGML v1.0//EN
CALSCALE:GREGORIAN
METHOD:PUBLISH
BEGIN:VEVENT
UID:69e4e7417a793
DTSTAMP:20260419T143129Z
DTSTART:20250105T170000Z
DTEND:20250105T190000Z
LOCATION:
SUMMARY:Cabalgata de Reyes
DESCRIPTION:👑🎠 La noche más mágica del año está por llegar\,  y s
 us majestades\,  los Reyes Magos de Oriente\,  te esperan en una espectacul
 ar cabalgata llena de ilusión\,  color y alegría. 🎁 🌟 Inicio: Plaza
  de España. Recorrido: Ronda de los Montes\,  Av. de los Artesanos\,  Av. 
 de Colmenar Viejo\,  Av.[..]\nhttps://360y5.es/events/cabalgata-de-reyes-2/
URL:https://360y5.es/events/cabalgata-de-reyes-2/
END:VEVENT
END:VCALENDAR