BEGIN:VCALENDAR
VERSION:2.0
PRODID:-//eventon.com NONSGML v1.0//EN
CALSCALE:GREGORIAN
METHOD:PUBLISH
BEGIN:VEVENT
UID:69e4df83c0447
DTSTAMP:20260419T135827Z
DTSTART:20241129
DTEND:20241130
LOCATION:
SUMMARY:Pista de hielo
DESCRIPTION:Del 29 de noviembre al 6 de enero en la plaza del Ayuntamiento.
  Horario&#8211; Horario general: de 11:00 a 21:00 h.&#8211; Días lectivos:
  de 16:00 a 21:00 h.&#8211; 24 y 31 de diciembre: de 11:00 a 18:00 h.&#8211
 ; 25 de diciembre y 1 de enero: de 17:00 a 21:00 h.[..]\nhttps://360y5.es/e
 vents/pista-de-hielo-2/
URL:https://360y5.es/events/pista-de-hielo-2/
END:VEVENT
END:VCALENDAR