BEGIN:VCALENDAR
VERSION:2.0
PRODID:-//eventon.com NONSGML v1.0//EN
CALSCALE:GREGORIAN
METHOD:PUBLISH
BEGIN:VEVENT
UID:69e4d17cf1383
DTSTAMP:20260419T125836Z
DTSTART:20250109T170000Z
DTEND:20250109T174500Z
LOCATION:Biblioteca Municipal Lope de Vega
SUMMARY:La hora de los cuentos: Fiesta
DESCRIPTION:NARRADORA: Marta Marco ¡Hoy es día de fiesta! Hay mucho que o
 rganizar: tenemos que prepararlo todo para la merendola\,  terminar nuestro
 s disfraces\,  aprender unos pasos de baile y engalanarnos para la verbena.
  ¡A esta fiesta está invitado el mundo entero! Duración: 45 minutos Edad
  recomendada: a partir de 4 años[..]\nhttps://360y5.es/events/la-hora-de-l
 os-cuentos-fiesta/
URL:https://360y5.es/events/la-hora-de-los-cuentos-fiesta/
END:VEVENT
END:VCALENDAR